BEGIN:VCALENDAR
VERSION:2.0
PRODID:-//Michigan Backflow Institute - ECPv6.15.20//NONSGML v1.0//EN
CALSCALE:GREGORIAN
METHOD:PUBLISH
X-WR-CALNAME:Michigan Backflow Institute
X-ORIGINAL-URL:https://michiganbackflowinstitute.com
X-WR-CALDESC:Events for Michigan Backflow Institute
REFRESH-INTERVAL;VALUE=DURATION:PT1H
X-Robots-Tag:noindex
X-PUBLISHED-TTL:PT1H
BEGIN:VTIMEZONE
TZID:America/New_York
BEGIN:DAYLIGHT
TZOFFSETFROM:-0500
TZOFFSETTO:-0400
TZNAME:EDT
DTSTART:20230312T070000
END:DAYLIGHT
BEGIN:STANDARD
TZOFFSETFROM:-0400
TZOFFSETTO:-0500
TZNAME:EST
DTSTART:20231105T060000
END:STANDARD
BEGIN:DAYLIGHT
TZOFFSETFROM:-0500
TZOFFSETTO:-0400
TZNAME:EDT
DTSTART:20240310T070000
END:DAYLIGHT
BEGIN:STANDARD
TZOFFSETFROM:-0400
TZOFFSETTO:-0500
TZNAME:EST
DTSTART:20241103T060000
END:STANDARD
BEGIN:DAYLIGHT
TZOFFSETFROM:-0500
TZOFFSETTO:-0400
TZNAME:EDT
DTSTART:20250309T070000
END:DAYLIGHT
BEGIN:STANDARD
TZOFFSETFROM:-0400
TZOFFSETTO:-0500
TZNAME:EST
DTSTART:20251102T060000
END:STANDARD
END:VTIMEZONE
BEGIN:VEVENT
DTSTART;TZID=America/New_York:20240605T080000
DTEND;TZID=America/New_York:20240605T170000
DTSTAMP:20260425T111545
CREATED:20240212T144055Z
LAST-MODIFIED:20240212T150520Z
UID:10000006-1717574400-1717606800@michiganbackflowinstitute.com
SUMMARY:MI ASSE 5110 Backflow Tester Recertification
DESCRIPTION:ASSE 5110 Recertification Testing. Open to those who currently have their ASSE Certification. \n\n\n\nPlease note: Recent Clarification to Michigan Law\, states that in order to test and submit reports in the state of Michigan\, you must be a registered apprentice working under the direct supervision of a Master Plumber; a Journeyman Plumber or a Master Plumber.
URL:https://michiganbackflowinstitute.com/event/mi-asse-5110-backflow-tester-recertification/
LOCATION:Michigan Backflow Institute\, 3549 Airport Rd - Suite 102\, Waterford\, MI\, 48329\, United States
ORGANIZER;CN="Michigan Backflow Institute":MAILTO:michiganbackflowinstitute@gmail.com
END:VEVENT
END:VCALENDAR