BEGIN:VCALENDAR
VERSION:2.0
PRODID:-//Michigan Backflow Institute - ECPv6.15.20//NONSGML v1.0//EN
CALSCALE:GREGORIAN
METHOD:PUBLISH
X-ORIGINAL-URL:https://michiganbackflowinstitute.com
X-WR-CALDESC:Events for Michigan Backflow Institute
REFRESH-INTERVAL;VALUE=DURATION:PT1H
X-Robots-Tag:noindex
X-PUBLISHED-TTL:PT1H
BEGIN:VTIMEZONE
TZID:America/New_York
BEGIN:DAYLIGHT
TZOFFSETFROM:-0500
TZOFFSETTO:-0400
TZNAME:EDT
DTSTART:20230312T070000
END:DAYLIGHT
BEGIN:STANDARD
TZOFFSETFROM:-0400
TZOFFSETTO:-0500
TZNAME:EST
DTSTART:20231105T060000
END:STANDARD
BEGIN:DAYLIGHT
TZOFFSETFROM:-0500
TZOFFSETTO:-0400
TZNAME:EDT
DTSTART:20240310T070000
END:DAYLIGHT
BEGIN:STANDARD
TZOFFSETFROM:-0400
TZOFFSETTO:-0500
TZNAME:EST
DTSTART:20241103T060000
END:STANDARD
BEGIN:DAYLIGHT
TZOFFSETFROM:-0500
TZOFFSETTO:-0400
TZNAME:EDT
DTSTART:20250309T070000
END:DAYLIGHT
BEGIN:STANDARD
TZOFFSETFROM:-0400
TZOFFSETTO:-0500
TZNAME:EST
DTSTART:20251102T060000
END:STANDARD
END:VTIMEZONE
BEGIN:VEVENT
DTSTART;TZID=America/New_York:20241201T080000
DTEND;TZID=America/New_York:20241231T170000
DTSTAMP:20260425T002059
CREATED:20240821T184528Z
LAST-MODIFIED:20240821T184529Z
UID:10000016-1733040000-1735664400@michiganbackflowinstitute.com
SUMMARY:No Certification/Recertification
DESCRIPTION:No ASSE 5110 Certification/Recertification in December 2024 \n\n\n\nPlease check back in January 2025 for the new class schedule.
URL:https://michiganbackflowinstitute.com/event/no-certification-recertification/
LOCATION:Michigan Backflow Institute\, 3549 Airport Rd - Suite 102\, Waterford\, MI\, 48329\, United States
ORGANIZER;CN="Michigan Backflow Institute":MAILTO:michiganbackflowinstitute@gmail.com
END:VEVENT
END:VCALENDAR