BEGIN:VCALENDAR
VERSION:2.0
PRODID:-//Michigan Backflow Institute - ECPv6.15.20//NONSGML v1.0//EN
CALSCALE:GREGORIAN
METHOD:PUBLISH
X-WR-CALNAME:Michigan Backflow Institute
X-ORIGINAL-URL:https://michiganbackflowinstitute.com
X-WR-CALDESC:Events for Michigan Backflow Institute
REFRESH-INTERVAL;VALUE=DURATION:PT1H
X-Robots-Tag:noindex
X-PUBLISHED-TTL:PT1H
BEGIN:VTIMEZONE
TZID:America/New_York
BEGIN:DAYLIGHT
TZOFFSETFROM:-0500
TZOFFSETTO:-0400
TZNAME:EDT
DTSTART:20230312T070000
END:DAYLIGHT
BEGIN:STANDARD
TZOFFSETFROM:-0400
TZOFFSETTO:-0500
TZNAME:EST
DTSTART:20231105T060000
END:STANDARD
BEGIN:DAYLIGHT
TZOFFSETFROM:-0500
TZOFFSETTO:-0400
TZNAME:EDT
DTSTART:20240310T070000
END:DAYLIGHT
BEGIN:STANDARD
TZOFFSETFROM:-0400
TZOFFSETTO:-0500
TZNAME:EST
DTSTART:20241103T060000
END:STANDARD
BEGIN:DAYLIGHT
TZOFFSETFROM:-0500
TZOFFSETTO:-0400
TZNAME:EDT
DTSTART:20250309T070000
END:DAYLIGHT
BEGIN:STANDARD
TZOFFSETFROM:-0400
TZOFFSETTO:-0500
TZNAME:EST
DTSTART:20251102T060000
END:STANDARD
END:VTIMEZONE
BEGIN:VEVENT
DTSTART;TZID=America/New_York:20240417T080000
DTEND;TZID=America/New_York:20240417T170000
DTSTAMP:20260425T071631
CREATED:20240117T164917Z
LAST-MODIFIED:20240205T203108Z
UID:10000003-1713340800-1713373200@michiganbackflowinstitute.com
SUMMARY:ASSE 5110 Recertification Testing
DESCRIPTION:ASSE 5110 Recertification Testing. Open to those who currently have their ASSE Certification.  \n\n\n\nPlease note: Recent Clarification to Michigan Law\, states that in order to test and submit reports in the state of Michigan\, you must be a registered apprentice working under the direct supervision of a Master Plumber; a Journeyman Plumber or a Master Plumber.
URL:https://michiganbackflowinstitute.com/event/asse-5110-recertification-testing/
LOCATION:Michigan Backflow Institute\, 3549 Airport Rd - Suite 102\, Waterford\, MI\, 48329\, United States
ORGANIZER;CN="Michigan Backflow Institute":MAILTO:michiganbackflowinstitute@gmail.com
END:VEVENT
BEGIN:VEVENT
DTSTART;TZID=America/New_York:20240318T080000
DTEND;TZID=America/New_York:20240322T170000
DTSTAMP:20260425T071631
CREATED:20240117T154512Z
LAST-MODIFIED:20240207T202051Z
UID:10000002-1710748800-1711126800@michiganbackflowinstitute.com
SUMMARY:ASSE 5110 Tester Certification Course
DESCRIPTION:ASSE 5110 Tester Certification Course – This 5 day ASSE Certification course is designed to recognize and identify proper Cross-Connection risks\, as well as testing and certifying per ASSE procedures.
URL:https://michiganbackflowinstitute.com/event/asse-5110-tester-certification-course/
LOCATION:MI
ORGANIZER;CN="Michigan Backflow Institute":MAILTO:michiganbackflowinstitute@gmail.com
END:VEVENT
END:VCALENDAR