BEGIN:VCALENDAR
VERSION:2.0
PRODID:-//Michigan Backflow Institute - ECPv6.15.20//NONSGML v1.0//EN
CALSCALE:GREGORIAN
METHOD:PUBLISH
X-WR-CALNAME:Michigan Backflow Institute
X-ORIGINAL-URL:https://michiganbackflowinstitute.com
X-WR-CALDESC:Events for Michigan Backflow Institute
REFRESH-INTERVAL;VALUE=DURATION:PT1H
X-Robots-Tag:noindex
X-PUBLISHED-TTL:PT1H
BEGIN:VTIMEZONE
TZID:America/New_York
BEGIN:DAYLIGHT
TZOFFSETFROM:-0500
TZOFFSETTO:-0400
TZNAME:EDT
DTSTART:20240310T070000
END:DAYLIGHT
BEGIN:STANDARD
TZOFFSETFROM:-0400
TZOFFSETTO:-0500
TZNAME:EST
DTSTART:20241103T060000
END:STANDARD
BEGIN:DAYLIGHT
TZOFFSETFROM:-0500
TZOFFSETTO:-0400
TZNAME:EDT
DTSTART:20250309T070000
END:DAYLIGHT
BEGIN:STANDARD
TZOFFSETFROM:-0400
TZOFFSETTO:-0500
TZNAME:EST
DTSTART:20251102T060000
END:STANDARD
BEGIN:DAYLIGHT
TZOFFSETFROM:-0500
TZOFFSETTO:-0400
TZNAME:EDT
DTSTART:20260308T070000
END:DAYLIGHT
BEGIN:STANDARD
TZOFFSETFROM:-0400
TZOFFSETTO:-0500
TZNAME:EST
DTSTART:20261101T060000
END:STANDARD
END:VTIMEZONE
BEGIN:VEVENT
DTSTART;TZID=America/New_York:20250203T080000
DTEND;TZID=America/New_York:20250207T163000
DTSTAMP:20260424T210612
CREATED:20241212T163657Z
LAST-MODIFIED:20250124T213608Z
UID:10000017-1738569600-1738945800@michiganbackflowinstitute.com
SUMMARY:February 3-7 2025  ASSE 5110 Tester Certification
DESCRIPTION:ASSE 5110 Tester Certification Course – This 5 day ASSE Certification course is designed to recognize and identify proper Cross-Connection risks\, as well as testing and certifying ASSE Approved Backflow Assemblies\, per ASSE procedures. Due to clarifications in Michigan laws\, only a registered Michigan plumbing apprentice (With 5 years experience in the plumbing/pipe-fitting field and working under the supervision of a master/journey plumber)\, a Journeyman Plumber\, or Master Plumber are allowed to submit test reports in the state of Michigan.
URL:https://michiganbackflowinstitute.com/event/february-3-7-2025-asse-5110-tester-certification/
LOCATION:Michigan Backflow Institute\, 3549 Airport Rd - Suite 102\, Waterford\, MI\, 48329\, United States
ORGANIZER;CN="Michigan Backflow Institute":MAILTO:michiganbackflowinstitute@gmail.com
END:VEVENT
BEGIN:VEVENT
DTSTART;TZID=America/New_York:20250212T080000
DTEND;TZID=America/New_York:20250212T130000
DTSTAMP:20260424T210612
CREATED:20241212T170631Z
LAST-MODIFIED:20241212T170948Z
UID:10000019-1739347200-1739365200@michiganbackflowinstitute.com
SUMMARY:ASSE 5110 Backflow Tester: Recertification
DESCRIPTION:Please note: Recent Clarification to Michigan Law\, states that in order to test and submit reports in the state of Michigan\, you must be a registered apprentice -working under the direct supervision of a Master/Journey Plumber\, a Journeyman Plumber or a Master Plumber. \n\n\n\n* Recertification is for those already 5110 Certified and wish to renew. \n\n\n\n* If your ASSE 5110 certification has been expired for more than 6 months\, you must attend the 40 hour certification course to continue testing.
URL:https://michiganbackflowinstitute.com/event/asse-5110-backflow-tester-recertification-6/
LOCATION:Michigan Backflow Institute\, 3549 Airport Rd - Suite 102\, Waterford\, MI\, 48329\, United States
ORGANIZER;CN="Michigan Backflow Institute":MAILTO:michiganbackflowinstitute@gmail.com
END:VEVENT
END:VCALENDAR